BEGIN:VCALENDAR
VERSION:2.0
CALSCALE:GREGORIAN
METHOD:PUBLISH
PRODID://CEC//211193
BEGIN:VEVENT
DTSTAMP:20260420T032529
VTIMEZONE:America/Chicago
DTSTART:20260409T140000Z
DTEND:20260410T183000Z
UID:211193
SUMMARY:2026 Environmental Law Symposium
LOCATION:The Sylvan Beach Pavilian, 1 Sylvan Beach Dr, La Porte, TX, 77571
DESCRIPTION:2026 Environmental Law Symposium\n\n04/09/26 09:00 AM CST\n - 04/10/26 01:30 PM CST\Description:\nWe are pleased to invite you to the 2026 Environmental Law Symposium, a two-day event hosted by the Harris County Attorney’s Office Environmental Division!\n\nThis symposium will bring together legal professionals, environmental advocates, and local leaders to explore the intersection of law, policy, and environmental justice in our region. \n\nLunch will be provided for all registered attendees.\n\nRSVP HERE\n\Location:\nThe Sylvan Beach Pavilian\n1 Sylvan Beach Dr\nLa Porte, TX 77571
X-ALT-DESC;FMTTYPE=text/html:2026 Environmental Law Symposium<br /><br />04/09/26 09:00 AM CST - 04/10/26 01:30 PM CST<br />Description:<br /><p>We are pleased to invite you to the&nbsp;<strong>2026 Environmental Law Symposium</strong>, a two-day event hosted by the Harris County Attorney&rsquo;s Office Environmental Division!</p>

<p>This symposium will bring together legal professionals, environmental advocates, and local leaders to explore the intersection of law, policy, and environmental justice in our region.&nbsp;</p>

<p><strong>Lunch will be provided for all registered attendees.</strong><br />
<br />
<a href="https://harriscountytx.jotform.com/260266051913149">RSVP HERE</a></p>
<br />Location:<br />The Sylvan Beach Pavilian<br />1 Sylvan Beach Dr<br />La Porte, TX 77571
PRIORITY:3
TRANSP:TRANSPARENT
BEGIN:VALARM
TRIGGER:-PT5M
ACTION:DISPLAY
DESCRIPTION:Reminder
END:VALARM
END:VEVENT
END:VCALENDAR
