BEGIN:VCALENDAR
VERSION:2.0
CALSCALE:GREGORIAN
METHOD:PUBLISH
PRODID://CEC//211195
BEGIN:VEVENT
DTSTAMP:20260422T045341
VTIMEZONE:America/Chicago
DTSTART:20260412T143000Z
DTEND:20260412T163000Z
UID:211195
SUMMARY:Living Roots: A Guided Walk through Bayou Natives
LOCATION:Mason Park, TX
DESCRIPTION:Living Roots: A Guided Walk through Bayou Natives\n\n04/12/26 09:30 AM CST\n - 04/12/26 11:30 AM CST\Description:\n\nJoin Bayou Preservation Association for Living Roots: A Guided Walk Through Bayou Natives, a free interactive walking tour exploring the cultural and ecological significance of native plants along Houston’s bayous.\n\nLed by Eddie Garcia of Habitat Walking Tours, an intersectional storyteller and nature guide, this experience invites participants to see Houston’s green spaces as living cultural archives. Along the walk, attendees will learn about the traditional uses of native plants, from medicinal practices to their enduring cultural importance, while deepening their connection to the landscapes that shape our city.\n\nThis program offers a unique opportunity to rediscover Houston’s bayous through stories of nature, history, and stewardship.\n\nMason Park, park off Tipps St. on the east side of the park\nMeeting Location: Meet at the outdoor exercise area under the small pavilion.\n\nThis event is free and open to the public, but space is limited.\n\nReserve your spot to join the walk\nhttps://www.bayoupreservation.org/event\n\nThis Bayou Preservation Association is funded in part by the City of Houston through Houston Arts Alliance.\Location:\nMason Park\n\n, TX
X-ALT-DESC;FMTTYPE=text/html:Living Roots: A Guided Walk through Bayou Natives<br /><br />04/12/26 09:30 AM CST - 04/12/26 11:30 AM CST<br />Description:<br /><br />
Join Bayou Preservation Association for Living Roots: A Guided Walk Through Bayou Natives, a free interactive walking tour exploring the cultural and ecological significance of native plants along Houston&rsquo;s bayous.<br />
<br />
Led by Eddie Garcia of Habitat Walking Tours, an intersectional storyteller and nature guide, this experience invites participants to see Houston&rsquo;s green spaces as living cultural archives. Along the walk, attendees will learn about the traditional uses of native plants, from medicinal practices to their enduring cultural importance, while deepening their connection to the landscapes that shape our city.<br />
<br />
This program offers a unique opportunity to rediscover Houston&rsquo;s bayous through stories of nature, history, and stewardship.<br />
<br />
Mason Park, park off Tipps St. on the east side of the park<br />
Meeting Location: Meet at the outdoor exercise area under the small pavilion.<br />
<br />
This event is free and open to the public, but space is limited.<br />
<br />
Reserve your spot to join the walk<br />
<a data-saferedirecturl="https://www.google.com/url?q=https://www.bayoupreservation.org/event&amp;source=gmail&amp;ust=1775096512671000&amp;usg=AOvVaw2pLqnWOt7TT-86Si9pS6fi" href="https://www.bayoupreservation.org/event" id="m_-3263957743797028742OWAcb9c1521-4459-e62a-0634-c731ed42df50" rel="noopener noreferrer" target="_blank" title="https://www.bayoupreservation.org/event">https://www.bayoupreservation.<wbr />org/event</a><br />
<br />
This Bayou Preservation Association is funded in part by the City of Houston through Houston Arts Alliance.<br />Location:<br />Mason Park<br /><br />, TX 
PRIORITY:3
TRANSP:TRANSPARENT
BEGIN:VALARM
TRIGGER:-PT5M
ACTION:DISPLAY
DESCRIPTION:Reminder
END:VALARM
END:VEVENT
END:VCALENDAR
