BEGIN:VCALENDAR
VERSION:2.0
CALSCALE:GREGORIAN
METHOD:PUBLISH
PRODID://CEC//211198
BEGIN:VEVENT
DTSTAMP:20260421T045219
VTIMEZONE:America/Chicago
DTSTART:20260426T230000Z
DTEND:20260427T000000Z
UID:211198
SUMMARY:Itâ€™s Always About the Habitat
LOCATION:, TX
DESCRIPTION:Itâ€™s Always About the Habitat\n\n04/26/26 06:00 PM CST\n - 04/26/26 07:00 PM CST\Description:\nJoin the Rev. Rob Spencer, founder of Cultiv8Community, to learn their story of connecting neighbors to\nneighbors, engaging people with nature, and restoring life-giving habitats. Cultiv8Community envisions a\nworld where people are connected with community and caring for nature, so that all life is flourishing,\nnow and for generations. Their core programs help families who are Asset Limited, Income Constrained,\n& Employed, (ALICE), become homeowners, provide children in rural areas joyful experiences in nature,\nand restore communities and the earth itself. Hear their story and how this has led to helping thousands\nof kids connect and fall in love with our planet. Time for interactive discussion with the speaker will be\nprovided. Please register for this talk on www.eventbrite.com at\nhttps://www.eventbrite.com/e/1984390183457. This virtual event will use the WebEx platform.\nRegistrants will receive a separate e-mail with WebEx connection details. All registrants will get a link to\nthe recording of this talk. Contact Lisa Brenskelle at gcs.lrc@gmail.com with any questions.
X-ALT-DESC;FMTTYPE=text/html:Itâ€™s Always About the Habitat<br /><br />04/26/26 06:00 PM CST - 04/26/26 07:00 PM CST<br />Description:<br />Join the Rev. Rob Spencer, founder of Cultiv8Community, to learn their story of connecting neighbors to<br />
neighbors, engaging people with nature, and restoring life-giving habitats. Cultiv8Community envisions a<br />
world where people are connected with community and caring for nature, so that all life is flourishing,<br />
now and for generations. Their core programs help families who are Asset Limited, Income Constrained,<br />
&amp; Employed, (ALICE), become homeowners, provide children in rural areas joyful experiences in nature,<br />
and restore communities and the earth itself. Hear their story and how this has led to helping thousands<br />
of kids connect and fall in love with our planet. Time for interactive discussion with the speaker will be<br />
provided. Please register for this talk on www.eventbrite.com at<br />
<a href="https://www.eventbrite.com/e/1984390183457">https://www.eventbrite.com/e/1984390183457</a>. This virtual event will use the WebEx platform.<br />
Registrants will receive a separate e-mail with WebEx connection details. All registrants will get a link to<br />
the recording of this talk. Contact Lisa Brenskelle at gcs.lrc@gmail.com with any questions.
PRIORITY:3
TRANSP:TRANSPARENT
BEGIN:VALARM
TRIGGER:-PT5M
ACTION:DISPLAY
DESCRIPTION:Reminder
END:VALARM
END:VEVENT
END:VCALENDAR
