BEGIN:VCALENDAR
VERSION:2.0
CALSCALE:GREGORIAN
METHOD:PUBLISH
PRODID://CEC//211199
BEGIN:VEVENT
DTSTAMP:20260419T221915
VTIMEZONE:America/Chicago
DTSTART:20260412T200000Z
DTEND:20260412T210000Z
UID:211199
SUMMARY:Saving Water While Saving Souls: Water Conservation at Houses of Worship
LOCATION:, TX
DESCRIPTION:Saving Water While Saving Souls: Water Conservation at Houses of Worship\n\n04/12/26 03:00 PM CST\n - 04/12/26 04:00 PM CST\Description:\nHouses of worship have long been in the business of renewal. As it turns out, they can also lead by\nexample at renewing and saving our water resources. Across traditions and denominations, faith\ncommunities can embrace One Water thinking—the idea that all water has value and should be\nmanaged holistically, whether it falls from the sky, flows from a faucet, or enters a drain. Xeriscaping\nreplaces thirsty turf with native plants that thrive on faith, sunshine, and minimal irrigation. Rainwater\nharvesting systems capture rooftop blessings and store them for landscape use or even indoor\nnonpotable and potable use. Even air conditioners can join the congregation! AC condensate harvesting\ncollects the steady drip of distilled water that would otherwise disappear into the storm drain. Inside,\nconservation measures such as efficient fixtures and leak detection quietly trim consumption without\ndisrupting services (of any kind). Graywater reuse systems redirect gently used water from sinks to\nirrigate grounds or reuse indoors for non-potable purposes. Atmospheric water generation can even pull\nmoisture directly from the air: loaves and fishes, but for humidity. For ecclesiastical campuses ready to\ngo further, on-site blackwater treatment and reuse systems close the loop, safely recycling wastewater\nfor nonpotable uses. The result is resilience, lower operating costs, and an example of environmental\ncare in action. In the end, saving water is less about sacrifice and more about intention. Houses of\nworship can model a quiet truth: conservation is not only practical—it’s faithful. An opportunity for\nQ&amp;A with the speaker will follow. Register for this event on www.eventbrite.com at:\nhttps://www.eventbrite.com/e/1984398383985. All registrants will receive the recording of the event.\nNote that Eventbrite is used for ticketing only. All registrants will get an e-mailed link to join the WebEx\nweb meeting. For more information about this event, please contact Lisa Brenskelle at\ngcs.lrc@gmail.com.
X-ALT-DESC;FMTTYPE=text/html:Saving Water While Saving Souls: Water Conservation at Houses of Worship<br /><br />04/12/26 03:00 PM CST - 04/12/26 04:00 PM CST<br />Description:<br />Houses of worship have long been in the business of renewal. As it turns out, they can also lead by<br />
example at renewing and saving our water resources. Across traditions and denominations, faith<br />
communities can embrace One Water thinking&mdash;the idea that all water has value and should be<br />
managed holistically, whether it falls from the sky, flows from a faucet, or enters a drain. Xeriscaping<br />
replaces thirsty turf with native plants that thrive on faith, sunshine, and minimal irrigation. Rainwater<br />
harvesting systems capture rooftop blessings and store them for landscape use or even indoor<br />
nonpotable and potable use. Even air conditioners can join the congregation! AC condensate harvesting<br />
collects the steady drip of distilled water that would otherwise disappear into the storm drain. Inside,<br />
conservation measures such as efficient fixtures and leak detection quietly trim consumption without<br />
disrupting services (of any kind). Graywater reuse systems redirect gently used water from sinks to<br />
irrigate grounds or reuse indoors for non-potable purposes. Atmospheric water generation can even pull<br />
moisture directly from the air: loaves and fishes, but for humidity. For ecclesiastical campuses ready to<br />
go further, on-site blackwater treatment and reuse systems close the loop, safely recycling wastewater<br />
for nonpotable uses. The result is resilience, lower operating costs, and an example of environmental<br />
care in action. In the end, saving water is less about sacrifice and more about intention. Houses of<br />
worship can model a quiet truth: conservation is not only practical&mdash;it&rsquo;s faithful. An opportunity for<br />
Q&amp;amp;A with the speaker will follow. Register for this event on www.eventbrite.com at:<br />
<a href="https://www.eventbrite.com/e/1984398383985">https://www.eventbrite.com/e/1984398383985</a>. All registrants will receive the recording of the event.<br />
Note that Eventbrite is used for ticketing only. All registrants will get an e-mailed link to join the WebEx<br />
web meeting. For more information about this event, please contact Lisa Brenskelle at<br />
<a href="mailto:gcs.lrc@gmail.com">gcs.lrc@gmail.com</a>.
PRIORITY:3
TRANSP:TRANSPARENT
BEGIN:VALARM
TRIGGER:-PT5M
ACTION:DISPLAY
DESCRIPTION:Reminder
END:VALARM
END:VEVENT
END:VCALENDAR
