BEGIN:VCALENDAR
VERSION:2.0
CALSCALE:GREGORIAN
METHOD:PUBLISH
PRODID://CEC//211202
BEGIN:VEVENT
DTSTAMP:20260420T033208
VTIMEZONE:America/Chicago
DTSTART:20260404T120000Z
DTEND:20260405T000000Z
UID:211202
SUMMARY:Free Birding class, guided Walk and more at Houston Audubon's High Island Sanctuaries
LOCATION:Houston Audubon's High Island Sanctuaries, TX
DESCRIPTION:Free Birding class, guided Walk and more at Houston Audubon's High Island Sanctuaries\n\n04/04/26 07:00 AM CST\n - 04/04/26 07:00 PM CST\Description:\nOn April 4th, enjoy FREE admission to all of Houston Audubon’s High Island sanctuaries—home to nearly 400 bird species and a must-visit destination for bird lovers around the world. Whether you’re a seasoned birder or just curious, our staff and volunteers will be out all day to help you spot wildlife and answer your questions. \n\nSaturday, April 4, 2026 \n\nSanctuaries are open from dawn-dusk (7am-7pm)\n\nFree events: \n\n10 AM: Birding 101 with Pete Deichmann at Morse Field Station\n\n10 AM: Guided Walk at Bolivar Flats Shorebird Sanctuary (meet on beach at bollards)\n\n11 AM: Rookery Talk on the McGovern Canopy Walkway at Smith Oaks Bird Sanctuary\n\nFor more info:\nhttps://houstonaudubon.org/conservation/sanctuaries/high-island/spring.html\n\Location:\nHouston Audubon's High Island Sanctuaries\n\n, TX
X-ALT-DESC;FMTTYPE=text/html:Free Birding class, guided Walk and more at Houston Audubon's High Island Sanctuaries<br /><br />04/04/26 07:00 AM CST - 04/04/26 07:00 PM CST<br />Description:<br /><p>On April 4th, enjoy FREE admission to all of Houston Audubon&rsquo;s High Island sanctuaries&mdash;home to nearly 400 bird species and a must-visit destination for bird lovers around the world. Whether you&rsquo;re a seasoned birder or just curious, our staff and volunteers will be out all day to help you spot wildlife and answer your questions.&nbsp;</p>

<p>Saturday, April 4, 2026&nbsp;</p>

<p>Sanctuaries are open from dawn-dusk (7am-7pm)</p>

<p>Free events:&nbsp;</p>

<p>10 AM: Birding 101 with Pete Deichmann at Morse Field Station</p>

<p>10 AM: Guided Walk at Bolivar Flats Shorebird Sanctuary (meet on beach at bollards)</p>

<p>11 AM: Rookery Talk on the McGovern Canopy Walkway at Smith Oaks Bird Sanctuary<br />
<br />
For more info:<br />
<a href="https://houstonaudubon.org/conservation/sanctuaries/high-island/spring.html">https://houstonaudubon.org/conservation/sanctuaries/high-island/spring.html</a></p>
<br />Location:<br />Houston Audubon's High Island Sanctuaries<br /><br />, TX 
PRIORITY:3
TRANSP:TRANSPARENT
BEGIN:VALARM
TRIGGER:-PT5M
ACTION:DISPLAY
DESCRIPTION:Reminder
END:VALARM
END:VEVENT
END:VCALENDAR
