BEGIN:VCALENDAR
VERSION:2.0
CALSCALE:GREGORIAN
METHOD:PUBLISH
PRODID://CEC//211392
BEGIN:VEVENT
DTSTAMP:20260419T131516
VTIMEZONE:America/Chicago
DTSTART:20260427T233000Z
DTEND:20260428T003000Z
UID:211392
SUMMARY:Jones Road Groundwater Plume Community Meeting with Texas Health and Environment Alliance (THEA)
LOCATION:Northwest Branch Library, 11355 Regency Green Drive, Cypress , TX, 77429
DESCRIPTION:Jones Road Groundwater Plume Community Meeting with Texas Health and Environment Alliance (THEA)\n\n04/27/26 06:30 PM CST\n - 04/27/26 07:30 PM CST\Description:\nBring your family and your neighbors to Texas Health and Environment Alliance's next Jones Road Meeting and learn what the EPA has been up to — Because everyone’s backyard matters!\Location:\nNorthwest Branch Library\n11355 Regency Green Drive\nCypress , TX 77429
X-ALT-DESC;FMTTYPE=text/html:Jones Road Groundwater Plume Community Meeting with Texas Health and Environment Alliance (THEA)<br /><br />04/27/26 06:30 PM CST - 04/27/26 07:30 PM CST<br />Description:<br />Bring your family and your neighbors to Texas Health and Environment Alliance's next Jones Road Meeting and learn what the EPA has been up to &mdash; Because everyone&rsquo;s backyard matters!<br />Location:<br />Northwest Branch Library<br />11355 Regency Green Drive<br />Cypress , TX 77429
PRIORITY:3
TRANSP:TRANSPARENT
BEGIN:VALARM
TRIGGER:-PT5M
ACTION:DISPLAY
DESCRIPTION:Reminder
END:VALARM
END:VEVENT
END:VCALENDAR
