BEGIN:VCALENDAR
VERSION:2.0
CALSCALE:GREGORIAN
METHOD:PUBLISH
PRODID://CEC//211394
BEGIN:VEVENT
DTSTAMP:20260421T074249
VTIMEZONE:America/Chicago
DTSTART:20260422T233000Z
DTEND:20260423T013000Z
UID:211394
SUMMARY:Earth Day Social
LOCATION:Walking Stick Brewery, 959 Wakefield Drive, Houston, TX, 77018
DESCRIPTION:Earth Day Social\n\n04/22/26 06:30 PM CST\n - 04/22/26 08:30 PM CST\Description:\nA relaxed, come-as-you-are evening to connect with friends, meet fellow supporters, and enjoy door prizes, a food truck, and a silent auction. Your RSVP (and your bids!) help support THEA’s work alongside communities facing toxic exposure—because everyone’s backyard deserves protection. 6:30-8:30 p.m. Walking Stick Brewery, 959 Wakefield Drive, Houston, Tx 77018 USA\n\nRSVP\n \n\Location:\nWalking Stick Brewery\n959 Wakefield Drive\nHouston, TX 77018
X-ALT-DESC;FMTTYPE=text/html:Earth Day Social<br /><br />04/22/26 06:30 PM CST - 04/22/26 08:30 PM CST<br />Description:<br /><div dir="ltr">A relaxed, come-as-you-are evening to connect with friends, meet fellow supporters, and enjoy door prizes, a food truck, and a silent auction. Your RSVP (and your bids!) help support THEA&rsquo;s work alongside communities facing toxic exposure&mdash;because everyone&rsquo;s backyard deserves protection. 6:30-8:30 p.m. Walking Stick Brewery, 959 Wakefield Drive, Houston, Tx 77018 USA<br />
<br />
<a href="https://www.zeffy.com/en-US/ticketing/thea-earth-day-social">RSVP</a><br />
&nbsp;</div>
<br />Location:<br />Walking Stick Brewery<br />959 Wakefield Drive<br />Houston, TX 77018
PRIORITY:3
TRANSP:TRANSPARENT
BEGIN:VALARM
TRIGGER:-PT5M
ACTION:DISPLAY
DESCRIPTION:Reminder
END:VALARM
END:VEVENT
END:VCALENDAR
