BEGIN:VCALENDAR
VERSION:2.0
CALSCALE:GREGORIAN
METHOD:PUBLISH
PRODID://CEC//211798
BEGIN:VEVENT
DTSTAMP:20260419T203358
VTIMEZONE:America/Chicago
DTSTART:20260415T170000Z
DTEND:20260415T180000Z
UID:211798
SUMMARY:Houston Methodist Health & Nature Webinar Series | From the Office to the Outdoors : How Nature Supports Worker Well-Being 
LOCATION:, TX
DESCRIPTION:Houston Methodist Health & Nature Webinar Series | From the Office to the Outdoors : How Nature Supports Worker Well-Being \n\n04/15/26 12:00 PM CST\n - 04/15/26 01:00 PM CST\Description:\nJoin us for the Health & Nature Webinar Series featuring guest speaker Rebecca Brossoit, PhD, Assistant Professor of Psychology Services, from Rice University. In this engaging session, Dr. Brossoit will explore how contact with nature can enhance worker health and well-being. Drawing on past, current, and emerging research, she will highlight how nature exposure supports stress reduction, recovery, and resilience in work contexts.\nEducational Objectives\n\nProvide an overview of past research on nature contact and worker well-being\nâ€‹Present published and current research projects investigating nature contact and worker well-being from my lab\nIdentify ideas and opportunities for future research\n\nACCREDITATION AND CREDIT DESIGNATION STATEMENTS\n\nHouston Methodist is accredited by the Accreditation Council for Continuing Medical Education (ACCME) to provide continuing medical education for physicians.\n\nHouston Methodist designates this live activity for a maximum of 1 AMA PRA Category 1 Credit™.  Physicians should claim only the credit commensurate with the extent of their participation in the activity.\nRegister here:\nhttps://houstonmethodist.zoom.us/webinar/register/WN_-9CJatpcRIuiFiP4nCkfsA#/registration
X-ALT-DESC;FMTTYPE=text/html:Houston Methodist Health & Nature Webinar Series | From the Office to the Outdoors : How Nature Supports Worker Well-Being <br /><br />04/15/26 12:00 PM CST - 04/15/26 01:00 PM CST<br />Description:<br />Join us for the Health &amp; Nature Webinar Series featuring guest speaker Rebecca Brossoit, PhD, Assistant Professor of Psychology Services, from Rice University. In this engaging session, Dr. Brossoit will explore how contact with nature can enhance worker health and well-being. Drawing on past, current, and emerging research, she will highlight how nature exposure supports stress reduction, recovery, and resilience in work contexts.
<p><strong>Educational Objectives</strong></p>

<p style="margin-left: 40px;">Provide an overview of past research on nature contact and worker well-being<br />
â€‹Present published and current research projects investigating nature contact and worker well-being from my lab<br />
Identify ideas and opportunities for future research</p>

<p><strong><u>ACCREDITATION AND CREDIT DESIGNATION STATEMENTS</u></strong></p>

<p>Houston Methodist is accredited by the Accreditation Council for Continuing Medical Education (ACCME) to provide continuing medical education for physicians.</p>

<p>Houston Methodist designates this live activity for a maximum of 1&nbsp;<em>AMA PRA Category 1 Credit</em>&trade;.&nbsp; Physicians should claim only the credit commensurate with the extent of their participation in the activity.</p>
Register here:<br />
<a href="https://houstonmethodist.zoom.us/webinar/register/WN_-9CJatpcRIuiFiP4nCkfsA#/registration">https://houstonmethodist.zoom.us/webinar/register/WN_-9CJatpcRIuiFiP4nCkfsA#/registration</a>
PRIORITY:3
TRANSP:TRANSPARENT
BEGIN:VALARM
TRIGGER:-PT5M
ACTION:DISPLAY
DESCRIPTION:Reminder
END:VALARM
END:VEVENT
END:VCALENDAR
