BEGIN:VCALENDAR
VERSION:2.0
CALSCALE:GREGORIAN
METHOD:PUBLISH
PRODID://CEC//211851
BEGIN:VEVENT
DTSTAMP:20260419T114146
VTIMEZONE:America/Chicago
DTSTART:20260427T140000Z
DTEND:20260427T170000Z
UID:211851
SUMMARY:City Nature Challenge - BIOBLITZ!
LOCATION:Greens Bayou, 12895 Greens Bayou St, Houston, TX, 77015
DESCRIPTION:City Nature Challenge - BIOBLITZ!\n\n04/27/26 09:00 AM CST\n - 04/27/26 12:00 PM CST\Description:\n\nJoin HPB Naturalists at Thomas Bell Foster Park to participate in the 2026 City Nature Challenge. This is a great opportunity to use iNaturalist in the field to document wildlife and plants. \nPlease download the iNaturalist App before the event to be familiar with the platform. \n\n \n\Details:\nCity Nature Challenge is an annual competition across the globe, where all people can participate in citizen science. The Houston-Galveston team had over 45,000 observations, making our diverse ecoregion a top contender every year!\n\nIf you would like to join the challenge, please reserve a spot to join HPB Naturalists in the field today!\nRSVP here City Nature Challenge - Bioblitz!\n\Location:\nGreens Bayou\n12895 Greens Bayou St\nHouston, TX 77015
X-ALT-DESC;FMTTYPE=text/html:City Nature Challenge - BIOBLITZ!<br /><br />04/27/26 09:00 AM CST - 04/27/26 12:00 PM CST<br />Description:<br /><!-- x-tinymce/html -->
<p>Join HPB Naturalists at Thomas Bell Foster Park to participate in the 2026 City Nature Challenge. This is a great opportunity to use iNaturalist in the field to document wildlife and plants.&nbsp;<br />
Please download the&nbsp;<a href="https://www.inaturalist.org/">iNaturalist App</a>&nbsp;before the event to be familiar with the platform.&nbsp;</p>

<p>&nbsp;</p>
<br />Details:<br /><p><a href="https://www.citynaturechallenge.org/">City Nature Challenge&nbsp;</a>is an annual competition across the globe, where&nbsp;<strong>all</strong>&nbsp;people can participate in citizen science. The Houston-Galveston team had over 45,000 observations, making our diverse ecoregion a top contender every year!</p>

<p>If you would like to join the challenge, please reserve a spot to join HPB Naturalists in the field today!<br />
RSVP here&nbsp;<a href="https://houstonparksboard.volunteerhub.com/vv2/event/4d6929e8-6a73-41dc-859b-0dbbf165c89e">City Nature Challenge - Bioblitz!</a></p>
<br />Location:<br />Greens Bayou<br />12895 Greens Bayou St<br />Houston, TX 77015
PRIORITY:3
TRANSP:TRANSPARENT
BEGIN:VALARM
TRIGGER:-PT5M
ACTION:DISPLAY
DESCRIPTION:Reminder
END:VALARM
END:VEVENT
END:VCALENDAR
