BEGIN:VCALENDAR
VERSION:2.0
CALSCALE:GREGORIAN
METHOD:PUBLISH
PRODID://CEC//211917
BEGIN:VEVENT
DTSTAMP:20260420T014346
VTIMEZONE:America/Chicago
DTSTART:20260622T133000Z
DTEND:20260626T183000Z
UID:211917
SUMMARY:Free Native Prairie Camp for ages 13-17
LOCATION:, TX
DESCRIPTION:Free Native Prairie Camp for ages 13-17\n\n06/22/26 08:30 AM CST\n - 06/26/26 01:30 PM CST\Description:\nHow can we help save native prairies right here at home? Join us for a week of learning and exploring native habitats, urban restoration projects, and the mosaics of our ecosystems!\n\nJoin the Native Prairies Association of Texas, the Environmental Institute of Houston, and conservation partners for a week of prairie activities, including hiking, birding, insect studies, nature journaling, green careers presentations, and more!\n\nLocations include Deer Park Prairie (NPAT), University of Houston – Clear Lake (EIH), Armand Bayou Nature Center, and Baytown Nature Center.\n\nDetails:\nCost: Free\nAge range: 13-17\nMaximum 12 campers per week\nCampers will need to provide their own lunches\nCampers will need transportation to Deer Park Prairie and field trip locations. More information will be provided in the registration process. \n\nSchedule: Weekday Camp\nMonday-Friday: 8:30 am-1:30 pm\nSession 1: June 1-5\nSession 2: June 22-26\n\nFree. Space is Limited. Registration is Required – after initial registration, we will reach out with further details for confirmation and final registration.\n\nRegister Here! 
X-ALT-DESC;FMTTYPE=text/html:Free Native Prairie Camp for ages 13-17<br /><br />06/22/26 08:30 AM CST - 06/26/26 01:30 PM CST<br />Description:<br />How can we help save native prairies right here at home? Join us&nbsp;for a week of learning and exploring native habitats, urban restoration projects, and the mosaics of our ecosystems!<br />
<br />
Join the&nbsp;<a data-saferedirecturl="https://www.google.com/url?q=https://texasprairie.org/&amp;source=gmail&amp;ust=1775938529716000&amp;usg=AOvVaw0CIgXlL-i06NFTec4tsgd9" href="https://texasprairie.org/" target="_blank">Native Prairies Association of Texas</a>, the&nbsp;<a data-saferedirecturl="https://www.google.com/url?q=https://www.uhcl.edu/environmental-institute/&amp;source=gmail&amp;ust=1775938529716000&amp;usg=AOvVaw20-PnGi7bussBbUB05rxUh" href="https://www.uhcl.edu/environmental-institute/" target="_blank">Environmental Institute of Houston</a>, and conservation partners for a week of prairie activities, including hiking, birding, insect studies, nature journaling, green careers presentations, and more!<br />
<br />
Locations include&nbsp;<a data-saferedirecturl="https://www.google.com/url?q=https://texasprairie.org/our-lands/%23Deer-Park-Prairie&amp;source=gmail&amp;ust=1775938529716000&amp;usg=AOvVaw15sq7brh7hIwRpHbEh49A-" href="https://texasprairie.org/our-lands/#Deer-Park-Prairie" target="_blank">Deer Park Prairie&nbsp;</a>(NPAT), University of Houston &ndash; Clear Lake (EIH),&nbsp;<a data-saferedirecturl="https://www.google.com/url?q=https://www.abnc.org/&amp;source=gmail&amp;ust=1775938529716000&amp;usg=AOvVaw2i27PznDjz8rAYzy1tRTkU" href="https://www.abnc.org/" target="_blank">Armand Bayou Nature Center</a>, and&nbsp;<a data-saferedirecturl="https://www.google.com/url?q=https://baytown.org/708/Baytown-Nature-Center&amp;source=gmail&amp;ust=1775938529716000&amp;usg=AOvVaw2r1SAiROhxlqlMktBIwEWx" href="https://baytown.org/708/Baytown-Nature-Center" target="_blank">Baytown Nature Center</a>.<br />
<br />
<strong>Details:</strong><br />
Cost: Free<br />
Age range: 13-17<br />
Maximum 12 campers per week<br />
Campers will need to provide their own lunches<br />
Campers will need transportation to Deer Park Prairie and field trip locations. More information will be provided in the registration process.&nbsp;<br />
<br />
<strong>Schedule:</strong>&nbsp;Weekday Camp<br />
Monday-Friday: 8:30 am-1:30 pm<br />
Session 1: June 1-5<br />
Session 2: June 22-26<br />
<br />
Free. Space is Limited. Registration is Required &ndash; after initial registration, we will reach out with further details for confirmation and final registration.<br />
<br />
<a href="https://texasprairie.org/event/houston-camp-1-june2026/">Register Here!&nbsp;</a>
PRIORITY:3
TRANSP:TRANSPARENT
BEGIN:VALARM
TRIGGER:-PT5M
ACTION:DISPLAY
DESCRIPTION:Reminder
END:VALARM
END:VEVENT
END:VCALENDAR
