BEGIN:VCALENDAR
VERSION:2.0
CALSCALE:GREGORIAN
METHOD:PUBLISH
PRODID://CEC//212236
BEGIN:VEVENT
DTSTAMP:20260420T000733
VTIMEZONE:America/Chicago
DTSTART:20260416T233000Z
DTEND:20260417T003000Z
UID:212236
SUMMARY:Birding 101 Class
LOCATION:Trees For Houston, 1911 W 34th St, Houston, TX, 77018
DESCRIPTION:Birding 101 Class\n\n04/16/26 06:30 PM CST\n - 04/16/26 07:30 PM CST\Description:\nTrees For Houston in partnership with Houston Audubon will be teaching a Birding 101 class\n\nBirds are all around us, from our backyards to local parks. No matter where you live, you can observe birds, which makes birding a fun hobby you can do anywhere, anytime. Learn the basics of bird identification at Birding 101 with Houston Audubon! You’ll get an understanding of the field marks that birders use to recognize different species and be on your way to becoming a birder! This is a free hybrid event but registration is required, In person participants will reiceve a Beautyberry shrub! \Details:\nThis class, in partnership with Houston Audubon and taught by Christine Wehrli, will be offered both in person and virtually. In-person attendees will receive a free bird-friendly bush, the American Beautyberry! Please only sign up if you plan to attend, space is limited, and no-shows take spots away from others.\n\n \n\nMeeting Date: 4/16/26\n\nLocation: 1911 W 34th St   HOUSTON, TX 77018 \n\nTime: 6:30-7:30 pm\n\nCost: Free\n\Location:\nTrees For Houston\n1911 W 34th St\nHouston, TX 77018
X-ALT-DESC;FMTTYPE=text/html:Birding 101 Class<br /><br />04/16/26 06:30 PM CST - 04/16/26 07:30 PM CST<br />Description:<br />Trees For Houston in partnership with Houston Audubon will be teaching a Birding 101 class<br />
<br />
Birds are all around us, from our backyards to local parks. No matter where you live, you can observe birds, which makes birding a fun hobby you can do anywhere, anytime. Learn the basics of bird identification at Birding 101 with Houston Audubon! You&rsquo;ll get an understanding of the field marks that birders use to recognize different species and be on your way to becoming a birder! This is a free hybrid event but registration is required, In person participants will reiceve a Beautyberry shrub!&nbsp;<br />Details:<br /><p>This&nbsp;class, in partnership with Houston Audubon and taught by Christine Wehrli, will be offered both in person and virtually.&nbsp;<strong>In-person attendees will receive a free bird-friendly bush, the American Beautyberry!</strong>&nbsp;Please only sign up if you plan to attend, space is limited, and no-shows take spots away from others.</p>

<p>&nbsp;</p>

<p><strong>Meeting Date:</strong>&nbsp;4/16/26</p>

<p><strong>Location:</strong>&nbsp;1911 W 34th St&nbsp; &nbsp;HOUSTON, TX 77018&nbsp;</p>

<p><strong>Time:&nbsp;</strong>6:30-7:30 pm</p>

<p><strong>Cost:</strong>&nbsp;Free</p>
<br />Location:<br />Trees For Houston<br />1911 W 34th St<br />Houston, TX 77018
PRIORITY:3
TRANSP:TRANSPARENT
BEGIN:VALARM
TRIGGER:-PT5M
ACTION:DISPLAY
DESCRIPTION:Reminder
END:VALARM
END:VEVENT
END:VCALENDAR
