BEGIN:VCALENDAR
VERSION:2.0
CALSCALE:GREGORIAN
METHOD:PUBLISH
PRODID://CEC//212239
BEGIN:VEVENT
DTSTAMP:20260421T075837
VTIMEZONE:America/Chicago
DTSTART:20260422T233000Z
DTEND:20260423T003000Z
UID:212239
SUMMARY:Trees For Houston Bookclub
LOCATION:Trees For Houston, 1911 W 34th St, Houston, TX, 77018
DESCRIPTION:Trees For Houston Bookclub\n\n04/22/26 06:30 PM CST\n - 04/22/26 07:30 PM CST\Description:\nBranch out and connect with like-minded readers during our bi-monthly bookclub!\n\nThe book we will be reading will be “The Hidden Company That Trees Keep” by James B Nardi\n\nA Trees For Houston staff member will lead the discussion with questions and prompts, but we encourage everyone to share their insights and ideas. \n\nAs an environmental organization, we encourage the use of digital or used copies of the book. \n\Details:\nBook: The Hidden Company That Trees Keep\n\nMeeting Date: April 22nd\n\nLocation: Zoom link will be sent out prior to the meeting\n\nTime: 6:30 pm-7:30 pm\n\nLearn about the book here\n\Location:\nTrees For Houston\n1911 W 34th St\nHouston, TX 77018
X-ALT-DESC;FMTTYPE=text/html:Trees For Houston Bookclub<br /><br />04/22/26 06:30 PM CST - 04/22/26 07:30 PM CST<br />Description:<br /><p>Branch out and connect with like-minded readers during our&nbsp;bi-monthly bookclub!</p>

<p>The book we will be reading&nbsp;will be&nbsp;<strong>&ldquo;The Hidden Company That Trees Keep&rdquo; by James B Nardi</strong></p>

<p>A Trees For Houston staff member will lead the discussion with questions and prompts, but we encourage everyone to share their insights and ideas.&nbsp;</p>

<p>As an environmental organization, we encourage the use of digital or used copies of the book.&nbsp;</p>
<br />Details:<br /><p><strong>Book: The Hidden Company That Trees Keep</strong></p>

<p>Meeting Date: April 22nd</p>

<p>Location: Zoom link will be sent out prior to the meeting</p>

<p>Time: 6:30 pm-7:30 pm</p>

<p>Learn about the book&nbsp;<a href="https://www.goodreads.com/book/show/61282581-the-hidden-company-that-trees-keep" rel="nofollow">here</a></p>
<br />Location:<br />Trees For Houston<br />1911 W 34th St<br />Houston, TX 77018
PRIORITY:3
TRANSP:TRANSPARENT
BEGIN:VALARM
TRIGGER:-PT5M
ACTION:DISPLAY
DESCRIPTION:Reminder
END:VALARM
END:VEVENT
END:VCALENDAR
